BEGIN:VCALENDAR
VERSION:2.0
PRODID:-//hacksw/handcal//NONSGML v1.0//EN
BEGIN:VEVENT
SUMMARY:Trophee AURA St Sorlin
UID:42e893e9-8261-4f21-ab38-8e7ffdcfe009
DTSTART:20260926T220000Z
DTEND:20260927T220000Z
LOCATION:Localisation   
CATEGORIES:Sportif
STATUS:
DESCRIPTION:<p>Course regionale ouverte a tous les pilotes licencies,
 meme les debutants !</p>
 
 <p>Classement individuel et par equipe :
 voir dans le guide de competition !</p>
URL;VALUE=URI:https://bmxmeyzieu.sportsregions.fr/evenements/2026/09/27/trophee-aura-st-sorlin-2313620
END:VEVENT
END:VCALENDAR
